BEGIN:VCALENDAR
VERSION:2.0
PRODID:-//wp-events-plugin.com//7.2.3.1//EN
TZID:Europe/Berlin
X-WR-TIMEZONE:Europe/Berlin
BEGIN:VEVENT
UID:73@akademiefuersicherheit.de
DTSTART;TZID=Europe/Berlin:20201105T090000
DTEND;TZID=Europe/Berlin:20201105T160000
DTSTAMP:20200120T151338Z
URL:https://www.akademiefuersicherheit.de/veranstaltungen/meister-fuer-sch
 utz-und-sicherheit-mss-30-intensivierungstag-betriebswirtschaftliches-hand
 eln-3/
SUMMARY:Meister für Schutz und Sicherheit (MSS 30+) - Intensivierungstag -
  GQ - Betriebswirtschaftliches Handeln
DESCRIPTION:Präsenztag zur Intensivierung des Themas "Betriebswirtschaftli
 ches Handeln" als Teil der Grundlegenden Qualifikationen (GQ) des Meisters
  für Schutz und Sicherheit.\nDer Intensivierungstag richtet sich an Teiln
 ehmer des Meisterlehrgangs 30+. Intensivierungstage können aber auch von 
 anderen Teilnehmern oder Externen separat hinzugebucht werden.\nWenn Sie b
 estimmte Aufgaben oder Fragestellungen erklärt haben möchten\, senden Si
 e Ihre Wünsche bitte vorab an pabst@akademiefuersicherheit.de\nKosten\nDi
 e Teilnahme ist für unsere Schüler/innen im jeweiligen Kurs kostenfrei. 
 Bei externen Teilnehmern oder bei Buchung zusätzlicher Präsenztage berec
 hnen wir 75 Euro pro Lehrveranstaltungstag bzw. 150 Euro pro Prüfungsvorb
 ereitungstag.\nHinweis auf Grund der Corona-Krise:\nDieser Termin findet u
 nter Vorbehalt statt. Sofern sich die IHK-Prüfungen erneut verschieben so
 llten\, werden möglicherweise wiederum auch die Vorbereitungstermine der 
 AfS umgeplant werden müssen. Bitte achten Sie bei Ihrer Hotelbuchung sich
 erheitshalber auf die Möglichkeit zur kostenlosen Stornierung.
CATEGORIES:Schulung
LOCATION:\, \, 
X-APPLE-STRUCTURED-LOCATION;VALUE=URI;X-ADDRESS=\, ;X-APPLE-RADIUS=100;X-TI
 TLE=:geo:0,0
END:VEVENT
BEGIN:VTIMEZONE
TZID:Europe/Berlin
X-LIC-LOCATION:Europe/Berlin
BEGIN:STANDARD
DTSTART:20201025T020000
TZOFFSETFROM:+0200
TZOFFSETTO:+0100
TZNAME:CET
END:STANDARD
END:VTIMEZONE
END:VCALENDAR